BEGIN:VCALENDAR
VERSION:2.0
PRODID:-//Jacksonville Area Legal Aid, Inc. - ECPv6.15.20//NONSGML v1.0//EN
CALSCALE:GREGORIAN
METHOD:PUBLISH
X-ORIGINAL-URL:https://www.jaxlegalaid.org
X-WR-CALDESC:Events for Jacksonville Area Legal Aid, Inc.
REFRESH-INTERVAL;VALUE=DURATION:PT1H
X-Robots-Tag:noindex
X-PUBLISHED-TTL:PT1H
BEGIN:VTIMEZONE
TZID:America/New_York
BEGIN:DAYLIGHT
TZOFFSETFROM:-0500
TZOFFSETTO:-0400
TZNAME:EDT
DTSTART:20240310T070000
END:DAYLIGHT
BEGIN:STANDARD
TZOFFSETFROM:-0400
TZOFFSETTO:-0500
TZNAME:EST
DTSTART:20241103T060000
END:STANDARD
BEGIN:DAYLIGHT
TZOFFSETFROM:-0500
TZOFFSETTO:-0400
TZNAME:EDT
DTSTART:20250309T070000
END:DAYLIGHT
BEGIN:STANDARD
TZOFFSETFROM:-0400
TZOFFSETTO:-0500
TZNAME:EST
DTSTART:20251102T060000
END:STANDARD
BEGIN:DAYLIGHT
TZOFFSETFROM:-0500
TZOFFSETTO:-0400
TZNAME:EDT
DTSTART:20260308T070000
END:DAYLIGHT
BEGIN:STANDARD
TZOFFSETFROM:-0400
TZOFFSETTO:-0500
TZNAME:EST
DTSTART:20261101T060000
END:STANDARD
END:VTIMEZONE
BEGIN:VEVENT
DTSTART;TZID=America/New_York:20250329T090000
DTEND;TZID=America/New_York:20250329T150000
DTSTAMP:20260423T184433
CREATED:20250122T185150Z
LAST-MODIFIED:20250311T215757Z
UID:10000505-1743238800-1743260400@www.jaxlegalaid.org
SUMMARY:Citizenship Clinic
DESCRIPTION:CANCELLED\nFREE CITIZENSHIP CLINIC\nCLINICA DE CIUDADANIA – más información\n\nSATURDAY\, MARCH 29\, 2025\nTime: 9:00 AM – 3:00 PM\nUniversity of North Florida\n\nRegistration Mandatory – Apply Here\n\nFor Information email: CitizenshipClinic@jaxlegalaid.org\nor call:  (904) 903-4493\n\nPRESENTED BY:\n\n\n\n\n\n\nWho is eligible to Apply?\n\nAre 18 years or older\nLawful permanent resident for at least 5 years or 3 years if you are married to a U.S Citizen\nSpeak\, read and write Basic English or qualify for an exemption\nDO NOT have criminal convictions.\n\nWhat should I bring to the clinic:\n\nPermanent Resident Card\nState Identification\, passports\, Social Security card.\nAny police records\nHome\, School\, & work Address for the last 5 years\nInformation on all trips outside of the U.S in the last 5 years.\nInformation for ALL children under 18 years of age.\nCheck or money order for the government fees or qualify for a fee waive\nMost current IRS 1040 form or Public benefits letter with eligibility date
URL:https://www.jaxlegalaid.org/event/citizenship-clinic/
LOCATION:University of North Florida (UNF)\, 1 UNF Drive\, Jacksonville\, FL\, 32224\, United States
CATEGORIES:Free Legal Clinic
END:VEVENT
END:VCALENDAR