BEGIN:VCALENDAR
VERSION:2.0
PRODID:-//Jacksonville Area Legal Aid, Inc. - ECPv6.15.20//NONSGML v1.0//EN
CALSCALE:GREGORIAN
METHOD:PUBLISH
X-ORIGINAL-URL:https://www.jaxlegalaid.org
X-WR-CALDESC:Events for Jacksonville Area Legal Aid, Inc.
REFRESH-INTERVAL;VALUE=DURATION:PT1H
X-Robots-Tag:noindex
X-PUBLISHED-TTL:PT1H
BEGIN:VTIMEZONE
TZID:America/New_York
BEGIN:DAYLIGHT
TZOFFSETFROM:-0500
TZOFFSETTO:-0400
TZNAME:EDT
DTSTART:20230312T070000
END:DAYLIGHT
BEGIN:STANDARD
TZOFFSETFROM:-0400
TZOFFSETTO:-0500
TZNAME:EST
DTSTART:20231105T060000
END:STANDARD
BEGIN:DAYLIGHT
TZOFFSETFROM:-0500
TZOFFSETTO:-0400
TZNAME:EDT
DTSTART:20240310T070000
END:DAYLIGHT
BEGIN:STANDARD
TZOFFSETFROM:-0400
TZOFFSETTO:-0500
TZNAME:EST
DTSTART:20241103T060000
END:STANDARD
BEGIN:DAYLIGHT
TZOFFSETFROM:-0500
TZOFFSETTO:-0400
TZNAME:EDT
DTSTART:20250309T070000
END:DAYLIGHT
BEGIN:STANDARD
TZOFFSETFROM:-0400
TZOFFSETTO:-0500
TZNAME:EST
DTSTART:20251102T060000
END:STANDARD
BEGIN:DAYLIGHT
TZOFFSETFROM:-0500
TZOFFSETTO:-0400
TZNAME:EDT
DTSTART:20260308T070000
END:DAYLIGHT
BEGIN:STANDARD
TZOFFSETFROM:-0400
TZOFFSETTO:-0500
TZNAME:EST
DTSTART:20261101T060000
END:STANDARD
END:VTIMEZONE
BEGIN:VEVENT
DTSTART;TZID=America/New_York:20241106T120000
DTEND;TZID=America/New_York:20250205T140000
DTSTAMP:20260424T121032
CREATED:20240801T171443Z
LAST-MODIFIED:20250402T201857Z
UID:10000503-1730894400-1738764000@www.jaxlegalaid.org
SUMMARY:St. Johns County Family Law Workshop
DESCRIPTION:The St. Johns County Family Law Workshop aims to help residents understand complex legal issues such as divorce\, child custody\, asset separation\, and pro se filing of pleadings. Our goal is to ensure everyone has access to the information needed to protect their rights and gain knowledge from legal counsel as they navigate the filing process. \nFor more details about the workshop or family law services\, please visit stjohnsclerk.com/courts/family-law/. \n\n1st Wednesday of Every Month\n\n12:00 – 1:00 PM\nIN-PERSON CLINIC\nNO APPOINTMENT NEEDED\nRichard O. Watson Judicial Center\n4010 Lewis Speedway\nSt. Augustin\, FL 32084
URL:https://www.jaxlegalaid.org/event/st-johns-county-family-law-workshop/2024-11-06/
LOCATION:Richard O. Watson Judicial Center\, 4010 Lewis Speedway\, St. Augustine\, 32084\, United States
CATEGORIES:Family Law,Family Law Clinics,Free Legal Clinic,St. Johns County
END:VEVENT
BEGIN:VEVENT
DTSTART;TZID=America/New_York:20241204T120000
DTEND;TZID=America/New_York:20250305T140000
DTSTAMP:20260424T121032
CREATED:20240801T171443Z
LAST-MODIFIED:20250402T201857Z
UID:10000504-1733313600-1741183200@www.jaxlegalaid.org
SUMMARY:St. Johns County Family Law Workshop
DESCRIPTION:The St. Johns County Family Law Workshop aims to help residents understand complex legal issues such as divorce\, child custody\, asset separation\, and pro se filing of pleadings. Our goal is to ensure everyone has access to the information needed to protect their rights and gain knowledge from legal counsel as they navigate the filing process. \nFor more details about the workshop or family law services\, please visit stjohnsclerk.com/courts/family-law/. \n\n1st Wednesday of Every Month\n\n12:00 – 1:00 PM\nIN-PERSON CLINIC\nNO APPOINTMENT NEEDED\nRichard O. Watson Judicial Center\n4010 Lewis Speedway\nSt. Augustin\, FL 32084
URL:https://www.jaxlegalaid.org/event/st-johns-county-family-law-workshop/2024-12-04/
LOCATION:Richard O. Watson Judicial Center\, 4010 Lewis Speedway\, St. Augustine\, 32084\, United States
CATEGORIES:Family Law,Family Law Clinics,Free Legal Clinic,St. Johns County
END:VEVENT
BEGIN:VEVENT
DTSTART;TZID=America/New_York:20250123T163000
DTEND;TZID=America/New_York:20250123T173000
DTSTAMP:20260424T121032
CREATED:20240601T215733Z
LAST-MODIFIED:20260210T172617Z
UID:10000478-1737649800-1737653400@www.jaxlegalaid.org
SUMMARY:Dissolution of Marriage (Divorce) - without children
DESCRIPTION:Learn about Florida dissolution of marriage including issues involving children and property. Receive forms and general instructions. \n4th Thursday of Every Month\n**No clinic in November or December\n• 4:30 – 5:30 PM – without children\nNo appointment needed \nVIRTUAL CLINIC \n\nCopy passcode: 182715\nClick on Zoom Link\nPaste passcode to enter the clinic\n\n\nZoom Meeting ID: 873 3215 1246\nPasscode: 182715
URL:https://www.jaxlegalaid.org/event/dissolution-of-marriage-divorce-without-children-2/2025-01-23/
LOCATION:Virtual
CATEGORIES:Dissolution of Marriage (Divorce) - without children,Family Law Clinics,Free Legal Clinic,Zoom - Virtual - Clinics
END:VEVENT
BEGIN:VEVENT
DTSTART;TZID=America/New_York:20250123T180000
DTEND;TZID=America/New_York:20250123T190000
DTSTAMP:20260424T121032
CREATED:20230422T172029Z
LAST-MODIFIED:20260210T172906Z
UID:10000855-1737655200-1737658800@www.jaxlegalaid.org
SUMMARY:Dissolution of Marriage (Divorce) - with children
DESCRIPTION:Learn about Florida dissolution of marriage including issues involving children and property. Receive forms and general instructions. \n4th Thursday of Every Month\n**No clinic in November or December\n• 6:00 – 7:00 PM – with children\nNo appointment needed \nVIRTUAL CLINIC \n\nCopy passcode: 026258\nClick on Zoom Link\nPaste passcode to enter the clinic\n\n\nZoom Meeting ID: 868 8127 1826\nPasscode: 026258
URL:https://www.jaxlegalaid.org/event/dissolution-of-marriage-divorce-with-children/2025-01-23/
LOCATION:Virtual
CATEGORIES:Dissolution of Marriage (Divorce) - with children,Family Law Clinics,Free Legal Clinic,Zoom - Virtual - Clinics
END:VEVENT
END:VCALENDAR