BEGIN:VCALENDAR
VERSION:2.0
PRODID:-//Jacksonville Area Legal Aid, Inc. - ECPv6.15.20//NONSGML v1.0//EN
CALSCALE:GREGORIAN
METHOD:PUBLISH
X-WR-CALNAME:Jacksonville Area Legal Aid, Inc.
X-ORIGINAL-URL:https://www.jaxlegalaid.org
X-WR-CALDESC:Events for Jacksonville Area Legal Aid, Inc.
REFRESH-INTERVAL;VALUE=DURATION:PT1H
X-Robots-Tag:noindex
X-PUBLISHED-TTL:PT1H
BEGIN:VTIMEZONE
TZID:America/New_York
BEGIN:DAYLIGHT
TZOFFSETFROM:-0500
TZOFFSETTO:-0400
TZNAME:EDT
DTSTART:20250309T070000
END:DAYLIGHT
BEGIN:STANDARD
TZOFFSETFROM:-0400
TZOFFSETTO:-0500
TZNAME:EST
DTSTART:20251102T060000
END:STANDARD
BEGIN:DAYLIGHT
TZOFFSETFROM:-0500
TZOFFSETTO:-0400
TZNAME:EDT
DTSTART:20260308T070000
END:DAYLIGHT
BEGIN:STANDARD
TZOFFSETFROM:-0400
TZOFFSETTO:-0500
TZNAME:EST
DTSTART:20261101T060000
END:STANDARD
BEGIN:DAYLIGHT
TZOFFSETFROM:-0500
TZOFFSETTO:-0400
TZNAME:EDT
DTSTART:20270314T070000
END:DAYLIGHT
BEGIN:STANDARD
TZOFFSETFROM:-0400
TZOFFSETTO:-0500
TZNAME:EST
DTSTART:20271107T060000
END:STANDARD
BEGIN:DAYLIGHT
TZOFFSETFROM:-0500
TZOFFSETTO:-0400
TZNAME:EDT
DTSTART:20280312T070000
END:DAYLIGHT
BEGIN:STANDARD
TZOFFSETFROM:-0400
TZOFFSETTO:-0500
TZNAME:EST
DTSTART:20281105T060000
END:STANDARD
END:VTIMEZONE
BEGIN:VEVENT
DTSTART;TZID=America/New_York:20260423T180000
DTEND;TZID=America/New_York:20260423T190000
DTSTAMP:20260423T102420
CREATED:20230422T172029Z
LAST-MODIFIED:20260210T172906Z
UID:10000870-1776967200-1776970800@www.jaxlegalaid.org
SUMMARY:Dissolution of Marriage (Divorce) - with children
DESCRIPTION:Learn about Florida dissolution of marriage including issues involving children and property. Receive forms and general instructions. \n4th Thursday of Every Month\n**No clinic in November or December\n• 6:00 – 7:00 PM – with children\nNo appointment needed \nVIRTUAL CLINIC \n\nCopy passcode: 026258\nClick on Zoom Link\nPaste passcode to enter the clinic\n\n\nZoom Meeting ID: 868 8127 1826\nPasscode: 026258
URL:https://www.jaxlegalaid.org/event/dissolution-of-marriage-divorce-with-children/2026-04-23/
LOCATION:Virtual
CATEGORIES:Dissolution of Marriage (Divorce) - with children,Family Law Clinics,Free Legal Clinic,Zoom - Virtual - Clinics
END:VEVENT
BEGIN:VEVENT
DTSTART;TZID=America/New_York:20260528T180000
DTEND;TZID=America/New_York:20260528T190000
DTSTAMP:20260423T102420
CREATED:20230422T172029Z
LAST-MODIFIED:20260210T172906Z
UID:10000871-1779991200-1779994800@www.jaxlegalaid.org
SUMMARY:Dissolution of Marriage (Divorce) - with children
DESCRIPTION:Learn about Florida dissolution of marriage including issues involving children and property. Receive forms and general instructions. \n4th Thursday of Every Month\n**No clinic in November or December\n• 6:00 – 7:00 PM – with children\nNo appointment needed \nVIRTUAL CLINIC \n\nCopy passcode: 026258\nClick on Zoom Link\nPaste passcode to enter the clinic\n\n\nZoom Meeting ID: 868 8127 1826\nPasscode: 026258
URL:https://www.jaxlegalaid.org/event/dissolution-of-marriage-divorce-with-children/2026-05-28/
LOCATION:Virtual
CATEGORIES:Dissolution of Marriage (Divorce) - with children,Family Law Clinics,Free Legal Clinic,Zoom - Virtual - Clinics
END:VEVENT
BEGIN:VEVENT
DTSTART;TZID=America/New_York:20260625T180000
DTEND;TZID=America/New_York:20260625T190000
DTSTAMP:20260423T102420
CREATED:20230422T172029Z
LAST-MODIFIED:20260210T172906Z
UID:10000872-1782410400-1782414000@www.jaxlegalaid.org
SUMMARY:Dissolution of Marriage (Divorce) - with children
DESCRIPTION:Learn about Florida dissolution of marriage including issues involving children and property. Receive forms and general instructions. \n4th Thursday of Every Month\n**No clinic in November or December\n• 6:00 – 7:00 PM – with children\nNo appointment needed \nVIRTUAL CLINIC \n\nCopy passcode: 026258\nClick on Zoom Link\nPaste passcode to enter the clinic\n\n\nZoom Meeting ID: 868 8127 1826\nPasscode: 026258
URL:https://www.jaxlegalaid.org/event/dissolution-of-marriage-divorce-with-children/2026-06-25/
LOCATION:Virtual
CATEGORIES:Dissolution of Marriage (Divorce) - with children,Family Law Clinics,Free Legal Clinic,Zoom - Virtual - Clinics
END:VEVENT
BEGIN:VEVENT
DTSTART;TZID=America/New_York:20260723T180000
DTEND;TZID=America/New_York:20260723T190000
DTSTAMP:20260423T102420
CREATED:20230422T172029Z
LAST-MODIFIED:20260210T172906Z
UID:10000873-1784829600-1784833200@www.jaxlegalaid.org
SUMMARY:Dissolution of Marriage (Divorce) - with children
DESCRIPTION:Learn about Florida dissolution of marriage including issues involving children and property. Receive forms and general instructions. \n4th Thursday of Every Month\n**No clinic in November or December\n• 6:00 – 7:00 PM – with children\nNo appointment needed \nVIRTUAL CLINIC \n\nCopy passcode: 026258\nClick on Zoom Link\nPaste passcode to enter the clinic\n\n\nZoom Meeting ID: 868 8127 1826\nPasscode: 026258
URL:https://www.jaxlegalaid.org/event/dissolution-of-marriage-divorce-with-children/2026-07-23/
LOCATION:Virtual
CATEGORIES:Dissolution of Marriage (Divorce) - with children,Family Law Clinics,Free Legal Clinic,Zoom - Virtual - Clinics
END:VEVENT
BEGIN:VEVENT
DTSTART;TZID=America/New_York:20260827T180000
DTEND;TZID=America/New_York:20260827T190000
DTSTAMP:20260423T102420
CREATED:20230422T172029Z
LAST-MODIFIED:20260210T172906Z
UID:10000874-1787853600-1787857200@www.jaxlegalaid.org
SUMMARY:Dissolution of Marriage (Divorce) - with children
DESCRIPTION:Learn about Florida dissolution of marriage including issues involving children and property. Receive forms and general instructions. \n4th Thursday of Every Month\n**No clinic in November or December\n• 6:00 – 7:00 PM – with children\nNo appointment needed \nVIRTUAL CLINIC \n\nCopy passcode: 026258\nClick on Zoom Link\nPaste passcode to enter the clinic\n\n\nZoom Meeting ID: 868 8127 1826\nPasscode: 026258
URL:https://www.jaxlegalaid.org/event/dissolution-of-marriage-divorce-with-children/2026-08-27/
LOCATION:Virtual
CATEGORIES:Dissolution of Marriage (Divorce) - with children,Family Law Clinics,Free Legal Clinic,Zoom - Virtual - Clinics
END:VEVENT
BEGIN:VEVENT
DTSTART;TZID=America/New_York:20260924T180000
DTEND;TZID=America/New_York:20260924T190000
DTSTAMP:20260423T102420
CREATED:20230422T172029Z
LAST-MODIFIED:20260210T172906Z
UID:10000875-1790272800-1790276400@www.jaxlegalaid.org
SUMMARY:Dissolution of Marriage (Divorce) - with children
DESCRIPTION:Learn about Florida dissolution of marriage including issues involving children and property. Receive forms and general instructions. \n4th Thursday of Every Month\n**No clinic in November or December\n• 6:00 – 7:00 PM – with children\nNo appointment needed \nVIRTUAL CLINIC \n\nCopy passcode: 026258\nClick on Zoom Link\nPaste passcode to enter the clinic\n\n\nZoom Meeting ID: 868 8127 1826\nPasscode: 026258
URL:https://www.jaxlegalaid.org/event/dissolution-of-marriage-divorce-with-children/2026-09-24/
LOCATION:Virtual
CATEGORIES:Dissolution of Marriage (Divorce) - with children,Family Law Clinics,Free Legal Clinic,Zoom - Virtual - Clinics
END:VEVENT
BEGIN:VEVENT
DTSTART;TZID=America/New_York:20261022T180000
DTEND;TZID=America/New_York:20261022T190000
DTSTAMP:20260423T102420
CREATED:20230422T172029Z
LAST-MODIFIED:20260210T172906Z
UID:10000876-1792692000-1792695600@www.jaxlegalaid.org
SUMMARY:Dissolution of Marriage (Divorce) - with children
DESCRIPTION:Learn about Florida dissolution of marriage including issues involving children and property. Receive forms and general instructions. \n4th Thursday of Every Month\n**No clinic in November or December\n• 6:00 – 7:00 PM – with children\nNo appointment needed \nVIRTUAL CLINIC \n\nCopy passcode: 026258\nClick on Zoom Link\nPaste passcode to enter the clinic\n\n\nZoom Meeting ID: 868 8127 1826\nPasscode: 026258
URL:https://www.jaxlegalaid.org/event/dissolution-of-marriage-divorce-with-children/2026-10-22/
LOCATION:Virtual
CATEGORIES:Dissolution of Marriage (Divorce) - with children,Family Law Clinics,Free Legal Clinic,Zoom - Virtual - Clinics
END:VEVENT
BEGIN:VEVENT
DTSTART;TZID=America/New_York:20270128T180000
DTEND;TZID=America/New_York:20270128T190000
DTSTAMP:20260423T102420
CREATED:20230422T172029Z
LAST-MODIFIED:20260210T172906Z
UID:10000877-1801159200-1801162800@www.jaxlegalaid.org
SUMMARY:Dissolution of Marriage (Divorce) - with children
DESCRIPTION:Learn about Florida dissolution of marriage including issues involving children and property. Receive forms and general instructions. \n4th Thursday of Every Month\n**No clinic in November or December\n• 6:00 – 7:00 PM – with children\nNo appointment needed \nVIRTUAL CLINIC \n\nCopy passcode: 026258\nClick on Zoom Link\nPaste passcode to enter the clinic\n\n\nZoom Meeting ID: 868 8127 1826\nPasscode: 026258
URL:https://www.jaxlegalaid.org/event/dissolution-of-marriage-divorce-with-children/2027-01-28/
LOCATION:Virtual
CATEGORIES:Dissolution of Marriage (Divorce) - with children,Family Law Clinics,Free Legal Clinic,Zoom - Virtual - Clinics
END:VEVENT
BEGIN:VEVENT
DTSTART;TZID=America/New_York:20270225T180000
DTEND;TZID=America/New_York:20270225T190000
DTSTAMP:20260423T102420
CREATED:20230422T172029Z
LAST-MODIFIED:20260210T172906Z
UID:10000878-1803578400-1803582000@www.jaxlegalaid.org
SUMMARY:Dissolution of Marriage (Divorce) - with children
DESCRIPTION:Learn about Florida dissolution of marriage including issues involving children and property. Receive forms and general instructions. \n4th Thursday of Every Month\n**No clinic in November or December\n• 6:00 – 7:00 PM – with children\nNo appointment needed \nVIRTUAL CLINIC \n\nCopy passcode: 026258\nClick on Zoom Link\nPaste passcode to enter the clinic\n\n\nZoom Meeting ID: 868 8127 1826\nPasscode: 026258
URL:https://www.jaxlegalaid.org/event/dissolution-of-marriage-divorce-with-children/2027-02-25/
LOCATION:Virtual
CATEGORIES:Dissolution of Marriage (Divorce) - with children,Family Law Clinics,Free Legal Clinic,Zoom - Virtual - Clinics
END:VEVENT
BEGIN:VEVENT
DTSTART;TZID=America/New_York:20270325T180000
DTEND;TZID=America/New_York:20270325T190000
DTSTAMP:20260423T102420
CREATED:20230422T172029Z
LAST-MODIFIED:20260210T172906Z
UID:10000879-1805997600-1806001200@www.jaxlegalaid.org
SUMMARY:Dissolution of Marriage (Divorce) - with children
DESCRIPTION:Learn about Florida dissolution of marriage including issues involving children and property. Receive forms and general instructions. \n4th Thursday of Every Month\n**No clinic in November or December\n• 6:00 – 7:00 PM – with children\nNo appointment needed \nVIRTUAL CLINIC \n\nCopy passcode: 026258\nClick on Zoom Link\nPaste passcode to enter the clinic\n\n\nZoom Meeting ID: 868 8127 1826\nPasscode: 026258
URL:https://www.jaxlegalaid.org/event/dissolution-of-marriage-divorce-with-children/2027-03-25/
LOCATION:Virtual
CATEGORIES:Dissolution of Marriage (Divorce) - with children,Family Law Clinics,Free Legal Clinic,Zoom - Virtual - Clinics
END:VEVENT
BEGIN:VEVENT
DTSTART;TZID=America/New_York:20270422T180000
DTEND;TZID=America/New_York:20270422T190000
DTSTAMP:20260423T102420
CREATED:20230422T172029Z
LAST-MODIFIED:20260210T172906Z
UID:10000880-1808416800-1808420400@www.jaxlegalaid.org
SUMMARY:Dissolution of Marriage (Divorce) - with children
DESCRIPTION:Learn about Florida dissolution of marriage including issues involving children and property. Receive forms and general instructions. \n4th Thursday of Every Month\n**No clinic in November or December\n• 6:00 – 7:00 PM – with children\nNo appointment needed \nVIRTUAL CLINIC \n\nCopy passcode: 026258\nClick on Zoom Link\nPaste passcode to enter the clinic\n\n\nZoom Meeting ID: 868 8127 1826\nPasscode: 026258
URL:https://www.jaxlegalaid.org/event/dissolution-of-marriage-divorce-with-children/2027-04-22/
LOCATION:Virtual
CATEGORIES:Dissolution of Marriage (Divorce) - with children,Family Law Clinics,Free Legal Clinic,Zoom - Virtual - Clinics
END:VEVENT
BEGIN:VEVENT
DTSTART;TZID=America/New_York:20270527T180000
DTEND;TZID=America/New_York:20270527T190000
DTSTAMP:20260423T102420
CREATED:20230422T172029Z
LAST-MODIFIED:20260210T172906Z
UID:10000881-1811440800-1811444400@www.jaxlegalaid.org
SUMMARY:Dissolution of Marriage (Divorce) - with children
DESCRIPTION:Learn about Florida dissolution of marriage including issues involving children and property. Receive forms and general instructions. \n4th Thursday of Every Month\n**No clinic in November or December\n• 6:00 – 7:00 PM – with children\nNo appointment needed \nVIRTUAL CLINIC \n\nCopy passcode: 026258\nClick on Zoom Link\nPaste passcode to enter the clinic\n\n\nZoom Meeting ID: 868 8127 1826\nPasscode: 026258
URL:https://www.jaxlegalaid.org/event/dissolution-of-marriage-divorce-with-children/2027-05-27/
LOCATION:Virtual
CATEGORIES:Dissolution of Marriage (Divorce) - with children,Family Law Clinics,Free Legal Clinic,Zoom - Virtual - Clinics
END:VEVENT
BEGIN:VEVENT
DTSTART;TZID=America/New_York:20270624T180000
DTEND;TZID=America/New_York:20270624T190000
DTSTAMP:20260423T102420
CREATED:20230422T172029Z
LAST-MODIFIED:20260210T172906Z
UID:10000882-1813860000-1813863600@www.jaxlegalaid.org
SUMMARY:Dissolution of Marriage (Divorce) - with children
DESCRIPTION:Learn about Florida dissolution of marriage including issues involving children and property. Receive forms and general instructions. \n4th Thursday of Every Month\n**No clinic in November or December\n• 6:00 – 7:00 PM – with children\nNo appointment needed \nVIRTUAL CLINIC \n\nCopy passcode: 026258\nClick on Zoom Link\nPaste passcode to enter the clinic\n\n\nZoom Meeting ID: 868 8127 1826\nPasscode: 026258
URL:https://www.jaxlegalaid.org/event/dissolution-of-marriage-divorce-with-children/2027-06-24/
LOCATION:Virtual
CATEGORIES:Dissolution of Marriage (Divorce) - with children,Family Law Clinics,Free Legal Clinic,Zoom - Virtual - Clinics
END:VEVENT
BEGIN:VEVENT
DTSTART;TZID=America/New_York:20270722T180000
DTEND;TZID=America/New_York:20270722T190000
DTSTAMP:20260423T102420
CREATED:20230422T172029Z
LAST-MODIFIED:20260210T172906Z
UID:10000883-1816279200-1816282800@www.jaxlegalaid.org
SUMMARY:Dissolution of Marriage (Divorce) - with children
DESCRIPTION:Learn about Florida dissolution of marriage including issues involving children and property. Receive forms and general instructions. \n4th Thursday of Every Month\n**No clinic in November or December\n• 6:00 – 7:00 PM – with children\nNo appointment needed \nVIRTUAL CLINIC \n\nCopy passcode: 026258\nClick on Zoom Link\nPaste passcode to enter the clinic\n\n\nZoom Meeting ID: 868 8127 1826\nPasscode: 026258
URL:https://www.jaxlegalaid.org/event/dissolution-of-marriage-divorce-with-children/2027-07-22/
LOCATION:Virtual
CATEGORIES:Dissolution of Marriage (Divorce) - with children,Family Law Clinics,Free Legal Clinic,Zoom - Virtual - Clinics
END:VEVENT
BEGIN:VEVENT
DTSTART;TZID=America/New_York:20270826T180000
DTEND;TZID=America/New_York:20270826T190000
DTSTAMP:20260423T102420
CREATED:20230422T172029Z
LAST-MODIFIED:20260210T172906Z
UID:10000884-1819303200-1819306800@www.jaxlegalaid.org
SUMMARY:Dissolution of Marriage (Divorce) - with children
DESCRIPTION:Learn about Florida dissolution of marriage including issues involving children and property. Receive forms and general instructions. \n4th Thursday of Every Month\n**No clinic in November or December\n• 6:00 – 7:00 PM – with children\nNo appointment needed \nVIRTUAL CLINIC \n\nCopy passcode: 026258\nClick on Zoom Link\nPaste passcode to enter the clinic\n\n\nZoom Meeting ID: 868 8127 1826\nPasscode: 026258
URL:https://www.jaxlegalaid.org/event/dissolution-of-marriage-divorce-with-children/2027-08-26/
LOCATION:Virtual
CATEGORIES:Dissolution of Marriage (Divorce) - with children,Family Law Clinics,Free Legal Clinic,Zoom - Virtual - Clinics
END:VEVENT
BEGIN:VEVENT
DTSTART;TZID=America/New_York:20270923T180000
DTEND;TZID=America/New_York:20270923T190000
DTSTAMP:20260423T102420
CREATED:20230422T172029Z
LAST-MODIFIED:20260210T172906Z
UID:10000885-1821722400-1821726000@www.jaxlegalaid.org
SUMMARY:Dissolution of Marriage (Divorce) - with children
DESCRIPTION:Learn about Florida dissolution of marriage including issues involving children and property. Receive forms and general instructions. \n4th Thursday of Every Month\n**No clinic in November or December\n• 6:00 – 7:00 PM – with children\nNo appointment needed \nVIRTUAL CLINIC \n\nCopy passcode: 026258\nClick on Zoom Link\nPaste passcode to enter the clinic\n\n\nZoom Meeting ID: 868 8127 1826\nPasscode: 026258
URL:https://www.jaxlegalaid.org/event/dissolution-of-marriage-divorce-with-children/2027-09-23/
LOCATION:Virtual
CATEGORIES:Dissolution of Marriage (Divorce) - with children,Family Law Clinics,Free Legal Clinic,Zoom - Virtual - Clinics
END:VEVENT
BEGIN:VEVENT
DTSTART;TZID=America/New_York:20271028T180000
DTEND;TZID=America/New_York:20271028T190000
DTSTAMP:20260423T102420
CREATED:20230422T172029Z
LAST-MODIFIED:20260210T172906Z
UID:10000886-1824746400-1824750000@www.jaxlegalaid.org
SUMMARY:Dissolution of Marriage (Divorce) - with children
DESCRIPTION:Learn about Florida dissolution of marriage including issues involving children and property. Receive forms and general instructions. \n4th Thursday of Every Month\n**No clinic in November or December\n• 6:00 – 7:00 PM – with children\nNo appointment needed \nVIRTUAL CLINIC \n\nCopy passcode: 026258\nClick on Zoom Link\nPaste passcode to enter the clinic\n\n\nZoom Meeting ID: 868 8127 1826\nPasscode: 026258
URL:https://www.jaxlegalaid.org/event/dissolution-of-marriage-divorce-with-children/2027-10-28/
LOCATION:Virtual
CATEGORIES:Dissolution of Marriage (Divorce) - with children,Family Law Clinics,Free Legal Clinic,Zoom - Virtual - Clinics
END:VEVENT
END:VCALENDAR