BEGIN:VCALENDAR
VERSION:2.0
PRODID:-//Jacksonville Area Legal Aid, Inc. - ECPv6.15.20//NONSGML v1.0//EN
CALSCALE:GREGORIAN
METHOD:PUBLISH
X-WR-CALNAME:Jacksonville Area Legal Aid, Inc.
X-ORIGINAL-URL:https://www.jaxlegalaid.org
X-WR-CALDESC:Events for Jacksonville Area Legal Aid, Inc.
REFRESH-INTERVAL;VALUE=DURATION:PT1H
X-Robots-Tag:noindex
X-PUBLISHED-TTL:PT1H
BEGIN:VTIMEZONE
TZID:America/New_York
BEGIN:DAYLIGHT
TZOFFSETFROM:-0500
TZOFFSETTO:-0400
TZNAME:EDT
DTSTART:20250309T070000
END:DAYLIGHT
BEGIN:STANDARD
TZOFFSETFROM:-0400
TZOFFSETTO:-0500
TZNAME:EST
DTSTART:20251102T060000
END:STANDARD
BEGIN:DAYLIGHT
TZOFFSETFROM:-0500
TZOFFSETTO:-0400
TZNAME:EDT
DTSTART:20260308T070000
END:DAYLIGHT
BEGIN:STANDARD
TZOFFSETFROM:-0400
TZOFFSETTO:-0500
TZNAME:EST
DTSTART:20261101T060000
END:STANDARD
BEGIN:DAYLIGHT
TZOFFSETFROM:-0500
TZOFFSETTO:-0400
TZNAME:EDT
DTSTART:20270314T070000
END:DAYLIGHT
BEGIN:STANDARD
TZOFFSETFROM:-0400
TZOFFSETTO:-0500
TZNAME:EST
DTSTART:20271107T060000
END:STANDARD
BEGIN:DAYLIGHT
TZOFFSETFROM:-0500
TZOFFSETTO:-0400
TZNAME:EDT
DTSTART:20280312T070000
END:DAYLIGHT
BEGIN:STANDARD
TZOFFSETFROM:-0400
TZOFFSETTO:-0500
TZNAME:EST
DTSTART:20281105T060000
END:STANDARD
END:VTIMEZONE
BEGIN:VEVENT
DTSTART;TZID=America/New_York:20260514T173000
DTEND;TZID=America/New_York:20260514T183000
DTSTAMP:20260423T102502
CREATED:20221227T184524Z
LAST-MODIFIED:20260210T172253Z
UID:10000811-1778779800-1778783400@www.jaxlegalaid.org
SUMMARY:Child Support Modification: Custody\, Timesharing & Paternity
DESCRIPTION:Learn more about child support modification\, custody/timesharing\, and paternity. Receive forms and general instructions. \n2nd Thursday of Every Month\n• 5:30 – 6:30 PM\nNo appointment needed \nVIRTUAL CLINIC \n\nCopy passcode: 666506\nClick on Zoom Link\nPaste passcode to enter the clinic\n\n\nZoom Meeting ID: 842 7373 0745\nPasscode: 666506
URL:https://www.jaxlegalaid.org/event/child-support-modification-custody-timesharing-paternity/2026-05-14/
LOCATION:Virtual
CATEGORIES:Child Support Modifications and Custody/Timesharing/Paternity Clinic,Family Law Clinics,Free Legal Clinic
END:VEVENT
BEGIN:VEVENT
DTSTART;TZID=America/New_York:20260611T173000
DTEND;TZID=America/New_York:20260611T183000
DTSTAMP:20260423T102502
CREATED:20221227T184524Z
LAST-MODIFIED:20260210T172253Z
UID:10000812-1781199000-1781202600@www.jaxlegalaid.org
SUMMARY:Child Support Modification: Custody\, Timesharing & Paternity
DESCRIPTION:Learn more about child support modification\, custody/timesharing\, and paternity. Receive forms and general instructions. \n2nd Thursday of Every Month\n• 5:30 – 6:30 PM\nNo appointment needed \nVIRTUAL CLINIC \n\nCopy passcode: 666506\nClick on Zoom Link\nPaste passcode to enter the clinic\n\n\nZoom Meeting ID: 842 7373 0745\nPasscode: 666506
URL:https://www.jaxlegalaid.org/event/child-support-modification-custody-timesharing-paternity/2026-06-11/
LOCATION:Virtual
CATEGORIES:Child Support Modifications and Custody/Timesharing/Paternity Clinic,Family Law Clinics,Free Legal Clinic
END:VEVENT
BEGIN:VEVENT
DTSTART;TZID=America/New_York:20260709T173000
DTEND;TZID=America/New_York:20260709T183000
DTSTAMP:20260423T102502
CREATED:20221227T184524Z
LAST-MODIFIED:20260210T172253Z
UID:10000813-1783618200-1783621800@www.jaxlegalaid.org
SUMMARY:Child Support Modification: Custody\, Timesharing & Paternity
DESCRIPTION:Learn more about child support modification\, custody/timesharing\, and paternity. Receive forms and general instructions. \n2nd Thursday of Every Month\n• 5:30 – 6:30 PM\nNo appointment needed \nVIRTUAL CLINIC \n\nCopy passcode: 666506\nClick on Zoom Link\nPaste passcode to enter the clinic\n\n\nZoom Meeting ID: 842 7373 0745\nPasscode: 666506
URL:https://www.jaxlegalaid.org/event/child-support-modification-custody-timesharing-paternity/2026-07-09/
LOCATION:Virtual
CATEGORIES:Child Support Modifications and Custody/Timesharing/Paternity Clinic,Family Law Clinics,Free Legal Clinic
END:VEVENT
BEGIN:VEVENT
DTSTART;TZID=America/New_York:20260813T173000
DTEND;TZID=America/New_York:20260813T183000
DTSTAMP:20260423T102502
CREATED:20221227T184524Z
LAST-MODIFIED:20260210T172253Z
UID:10000814-1786642200-1786645800@www.jaxlegalaid.org
SUMMARY:Child Support Modification: Custody\, Timesharing & Paternity
DESCRIPTION:Learn more about child support modification\, custody/timesharing\, and paternity. Receive forms and general instructions. \n2nd Thursday of Every Month\n• 5:30 – 6:30 PM\nNo appointment needed \nVIRTUAL CLINIC \n\nCopy passcode: 666506\nClick on Zoom Link\nPaste passcode to enter the clinic\n\n\nZoom Meeting ID: 842 7373 0745\nPasscode: 666506
URL:https://www.jaxlegalaid.org/event/child-support-modification-custody-timesharing-paternity/2026-08-13/
LOCATION:Virtual
CATEGORIES:Child Support Modifications and Custody/Timesharing/Paternity Clinic,Family Law Clinics,Free Legal Clinic
END:VEVENT
BEGIN:VEVENT
DTSTART;TZID=America/New_York:20260910T173000
DTEND;TZID=America/New_York:20260910T183000
DTSTAMP:20260423T102502
CREATED:20221227T184524Z
LAST-MODIFIED:20260210T172253Z
UID:10000815-1789061400-1789065000@www.jaxlegalaid.org
SUMMARY:Child Support Modification: Custody\, Timesharing & Paternity
DESCRIPTION:Learn more about child support modification\, custody/timesharing\, and paternity. Receive forms and general instructions. \n2nd Thursday of Every Month\n• 5:30 – 6:30 PM\nNo appointment needed \nVIRTUAL CLINIC \n\nCopy passcode: 666506\nClick on Zoom Link\nPaste passcode to enter the clinic\n\n\nZoom Meeting ID: 842 7373 0745\nPasscode: 666506
URL:https://www.jaxlegalaid.org/event/child-support-modification-custody-timesharing-paternity/2026-09-10/
LOCATION:Virtual
CATEGORIES:Child Support Modifications and Custody/Timesharing/Paternity Clinic,Family Law Clinics,Free Legal Clinic
END:VEVENT
BEGIN:VEVENT
DTSTART;TZID=America/New_York:20261008T173000
DTEND;TZID=America/New_York:20261008T183000
DTSTAMP:20260423T102502
CREATED:20221227T184524Z
LAST-MODIFIED:20260210T172253Z
UID:10000816-1791480600-1791484200@www.jaxlegalaid.org
SUMMARY:Child Support Modification: Custody\, Timesharing & Paternity
DESCRIPTION:Learn more about child support modification\, custody/timesharing\, and paternity. Receive forms and general instructions. \n2nd Thursday of Every Month\n• 5:30 – 6:30 PM\nNo appointment needed \nVIRTUAL CLINIC \n\nCopy passcode: 666506\nClick on Zoom Link\nPaste passcode to enter the clinic\n\n\nZoom Meeting ID: 842 7373 0745\nPasscode: 666506
URL:https://www.jaxlegalaid.org/event/child-support-modification-custody-timesharing-paternity/2026-10-08/
LOCATION:Virtual
CATEGORIES:Child Support Modifications and Custody/Timesharing/Paternity Clinic,Family Law Clinics,Free Legal Clinic
END:VEVENT
BEGIN:VEVENT
DTSTART;TZID=America/New_York:20261112T173000
DTEND;TZID=America/New_York:20261112T183000
DTSTAMP:20260423T102502
CREATED:20221227T184524Z
LAST-MODIFIED:20260210T172253Z
UID:10000817-1794504600-1794508200@www.jaxlegalaid.org
SUMMARY:Child Support Modification: Custody\, Timesharing & Paternity
DESCRIPTION:Learn more about child support modification\, custody/timesharing\, and paternity. Receive forms and general instructions. \n2nd Thursday of Every Month\n• 5:30 – 6:30 PM\nNo appointment needed \nVIRTUAL CLINIC \n\nCopy passcode: 666506\nClick on Zoom Link\nPaste passcode to enter the clinic\n\n\nZoom Meeting ID: 842 7373 0745\nPasscode: 666506
URL:https://www.jaxlegalaid.org/event/child-support-modification-custody-timesharing-paternity/2026-11-12/
LOCATION:Virtual
CATEGORIES:Child Support Modifications and Custody/Timesharing/Paternity Clinic,Family Law Clinics,Free Legal Clinic
END:VEVENT
BEGIN:VEVENT
DTSTART;TZID=America/New_York:20261210T173000
DTEND;TZID=America/New_York:20261210T183000
DTSTAMP:20260423T102502
CREATED:20221227T184524Z
LAST-MODIFIED:20260210T172253Z
UID:10000818-1796923800-1796927400@www.jaxlegalaid.org
SUMMARY:Child Support Modification: Custody\, Timesharing & Paternity
DESCRIPTION:Learn more about child support modification\, custody/timesharing\, and paternity. Receive forms and general instructions. \n2nd Thursday of Every Month\n• 5:30 – 6:30 PM\nNo appointment needed \nVIRTUAL CLINIC \n\nCopy passcode: 666506\nClick on Zoom Link\nPaste passcode to enter the clinic\n\n\nZoom Meeting ID: 842 7373 0745\nPasscode: 666506
URL:https://www.jaxlegalaid.org/event/child-support-modification-custody-timesharing-paternity/2026-12-10/
LOCATION:Virtual
CATEGORIES:Child Support Modifications and Custody/Timesharing/Paternity Clinic,Family Law Clinics,Free Legal Clinic
END:VEVENT
BEGIN:VEVENT
DTSTART;TZID=America/New_York:20270114T173000
DTEND;TZID=America/New_York:20270114T183000
DTSTAMP:20260423T102502
CREATED:20221227T184524Z
LAST-MODIFIED:20260210T172253Z
UID:10000819-1799947800-1799951400@www.jaxlegalaid.org
SUMMARY:Child Support Modification: Custody\, Timesharing & Paternity
DESCRIPTION:Learn more about child support modification\, custody/timesharing\, and paternity. Receive forms and general instructions. \n2nd Thursday of Every Month\n• 5:30 – 6:30 PM\nNo appointment needed \nVIRTUAL CLINIC \n\nCopy passcode: 666506\nClick on Zoom Link\nPaste passcode to enter the clinic\n\n\nZoom Meeting ID: 842 7373 0745\nPasscode: 666506
URL:https://www.jaxlegalaid.org/event/child-support-modification-custody-timesharing-paternity/2027-01-14/
LOCATION:Virtual
CATEGORIES:Child Support Modifications and Custody/Timesharing/Paternity Clinic,Family Law Clinics,Free Legal Clinic
END:VEVENT
BEGIN:VEVENT
DTSTART;TZID=America/New_York:20270211T173000
DTEND;TZID=America/New_York:20270211T183000
DTSTAMP:20260423T102502
CREATED:20221227T184524Z
LAST-MODIFIED:20260210T172253Z
UID:10000820-1802367000-1802370600@www.jaxlegalaid.org
SUMMARY:Child Support Modification: Custody\, Timesharing & Paternity
DESCRIPTION:Learn more about child support modification\, custody/timesharing\, and paternity. Receive forms and general instructions. \n2nd Thursday of Every Month\n• 5:30 – 6:30 PM\nNo appointment needed \nVIRTUAL CLINIC \n\nCopy passcode: 666506\nClick on Zoom Link\nPaste passcode to enter the clinic\n\n\nZoom Meeting ID: 842 7373 0745\nPasscode: 666506
URL:https://www.jaxlegalaid.org/event/child-support-modification-custody-timesharing-paternity/2027-02-11/
LOCATION:Virtual
CATEGORIES:Child Support Modifications and Custody/Timesharing/Paternity Clinic,Family Law Clinics,Free Legal Clinic
END:VEVENT
BEGIN:VEVENT
DTSTART;TZID=America/New_York:20270311T173000
DTEND;TZID=America/New_York:20270311T183000
DTSTAMP:20260423T102502
CREATED:20221227T184524Z
LAST-MODIFIED:20260210T172253Z
UID:10000821-1804786200-1804789800@www.jaxlegalaid.org
SUMMARY:Child Support Modification: Custody\, Timesharing & Paternity
DESCRIPTION:Learn more about child support modification\, custody/timesharing\, and paternity. Receive forms and general instructions. \n2nd Thursday of Every Month\n• 5:30 – 6:30 PM\nNo appointment needed \nVIRTUAL CLINIC \n\nCopy passcode: 666506\nClick on Zoom Link\nPaste passcode to enter the clinic\n\n\nZoom Meeting ID: 842 7373 0745\nPasscode: 666506
URL:https://www.jaxlegalaid.org/event/child-support-modification-custody-timesharing-paternity/2027-03-11/
LOCATION:Virtual
CATEGORIES:Child Support Modifications and Custody/Timesharing/Paternity Clinic,Family Law Clinics,Free Legal Clinic
END:VEVENT
BEGIN:VEVENT
DTSTART;TZID=America/New_York:20270408T173000
DTEND;TZID=America/New_York:20270408T183000
DTSTAMP:20260423T102502
CREATED:20221227T184524Z
LAST-MODIFIED:20260210T172253Z
UID:10000822-1807205400-1807209000@www.jaxlegalaid.org
SUMMARY:Child Support Modification: Custody\, Timesharing & Paternity
DESCRIPTION:Learn more about child support modification\, custody/timesharing\, and paternity. Receive forms and general instructions. \n2nd Thursday of Every Month\n• 5:30 – 6:30 PM\nNo appointment needed \nVIRTUAL CLINIC \n\nCopy passcode: 666506\nClick on Zoom Link\nPaste passcode to enter the clinic\n\n\nZoom Meeting ID: 842 7373 0745\nPasscode: 666506
URL:https://www.jaxlegalaid.org/event/child-support-modification-custody-timesharing-paternity/2027-04-08/
LOCATION:Virtual
CATEGORIES:Child Support Modifications and Custody/Timesharing/Paternity Clinic,Family Law Clinics,Free Legal Clinic
END:VEVENT
BEGIN:VEVENT
DTSTART;TZID=America/New_York:20270513T173000
DTEND;TZID=America/New_York:20270513T183000
DTSTAMP:20260423T102502
CREATED:20221227T184524Z
LAST-MODIFIED:20260210T172253Z
UID:10000823-1810229400-1810233000@www.jaxlegalaid.org
SUMMARY:Child Support Modification: Custody\, Timesharing & Paternity
DESCRIPTION:Learn more about child support modification\, custody/timesharing\, and paternity. Receive forms and general instructions. \n2nd Thursday of Every Month\n• 5:30 – 6:30 PM\nNo appointment needed \nVIRTUAL CLINIC \n\nCopy passcode: 666506\nClick on Zoom Link\nPaste passcode to enter the clinic\n\n\nZoom Meeting ID: 842 7373 0745\nPasscode: 666506
URL:https://www.jaxlegalaid.org/event/child-support-modification-custody-timesharing-paternity/2027-05-13/
LOCATION:Virtual
CATEGORIES:Child Support Modifications and Custody/Timesharing/Paternity Clinic,Family Law Clinics,Free Legal Clinic
END:VEVENT
BEGIN:VEVENT
DTSTART;TZID=America/New_York:20270610T173000
DTEND;TZID=America/New_York:20270610T183000
DTSTAMP:20260423T102502
CREATED:20221227T184524Z
LAST-MODIFIED:20260210T172253Z
UID:10000824-1812648600-1812652200@www.jaxlegalaid.org
SUMMARY:Child Support Modification: Custody\, Timesharing & Paternity
DESCRIPTION:Learn more about child support modification\, custody/timesharing\, and paternity. Receive forms and general instructions. \n2nd Thursday of Every Month\n• 5:30 – 6:30 PM\nNo appointment needed \nVIRTUAL CLINIC \n\nCopy passcode: 666506\nClick on Zoom Link\nPaste passcode to enter the clinic\n\n\nZoom Meeting ID: 842 7373 0745\nPasscode: 666506
URL:https://www.jaxlegalaid.org/event/child-support-modification-custody-timesharing-paternity/2027-06-10/
LOCATION:Virtual
CATEGORIES:Child Support Modifications and Custody/Timesharing/Paternity Clinic,Family Law Clinics,Free Legal Clinic
END:VEVENT
BEGIN:VEVENT
DTSTART;TZID=America/New_York:20270708T173000
DTEND;TZID=America/New_York:20270708T183000
DTSTAMP:20260423T102502
CREATED:20221227T184524Z
LAST-MODIFIED:20260210T172253Z
UID:10000825-1815067800-1815071400@www.jaxlegalaid.org
SUMMARY:Child Support Modification: Custody\, Timesharing & Paternity
DESCRIPTION:Learn more about child support modification\, custody/timesharing\, and paternity. Receive forms and general instructions. \n2nd Thursday of Every Month\n• 5:30 – 6:30 PM\nNo appointment needed \nVIRTUAL CLINIC \n\nCopy passcode: 666506\nClick on Zoom Link\nPaste passcode to enter the clinic\n\n\nZoom Meeting ID: 842 7373 0745\nPasscode: 666506
URL:https://www.jaxlegalaid.org/event/child-support-modification-custody-timesharing-paternity/2027-07-08/
LOCATION:Virtual
CATEGORIES:Child Support Modifications and Custody/Timesharing/Paternity Clinic,Family Law Clinics,Free Legal Clinic
END:VEVENT
BEGIN:VEVENT
DTSTART;TZID=America/New_York:20270812T173000
DTEND;TZID=America/New_York:20270812T183000
DTSTAMP:20260423T102502
CREATED:20221227T184524Z
LAST-MODIFIED:20260210T172253Z
UID:10000826-1818091800-1818095400@www.jaxlegalaid.org
SUMMARY:Child Support Modification: Custody\, Timesharing & Paternity
DESCRIPTION:Learn more about child support modification\, custody/timesharing\, and paternity. Receive forms and general instructions. \n2nd Thursday of Every Month\n• 5:30 – 6:30 PM\nNo appointment needed \nVIRTUAL CLINIC \n\nCopy passcode: 666506\nClick on Zoom Link\nPaste passcode to enter the clinic\n\n\nZoom Meeting ID: 842 7373 0745\nPasscode: 666506
URL:https://www.jaxlegalaid.org/event/child-support-modification-custody-timesharing-paternity/2027-08-12/
LOCATION:Virtual
CATEGORIES:Child Support Modifications and Custody/Timesharing/Paternity Clinic,Family Law Clinics,Free Legal Clinic
END:VEVENT
BEGIN:VEVENT
DTSTART;TZID=America/New_York:20270909T173000
DTEND;TZID=America/New_York:20270909T183000
DTSTAMP:20260423T102502
CREATED:20221227T184524Z
LAST-MODIFIED:20260210T172253Z
UID:10000827-1820511000-1820514600@www.jaxlegalaid.org
SUMMARY:Child Support Modification: Custody\, Timesharing & Paternity
DESCRIPTION:Learn more about child support modification\, custody/timesharing\, and paternity. Receive forms and general instructions. \n2nd Thursday of Every Month\n• 5:30 – 6:30 PM\nNo appointment needed \nVIRTUAL CLINIC \n\nCopy passcode: 666506\nClick on Zoom Link\nPaste passcode to enter the clinic\n\n\nZoom Meeting ID: 842 7373 0745\nPasscode: 666506
URL:https://www.jaxlegalaid.org/event/child-support-modification-custody-timesharing-paternity/2027-09-09/
LOCATION:Virtual
CATEGORIES:Child Support Modifications and Custody/Timesharing/Paternity Clinic,Family Law Clinics,Free Legal Clinic
END:VEVENT
BEGIN:VEVENT
DTSTART;TZID=America/New_York:20271014T173000
DTEND;TZID=America/New_York:20271014T183000
DTSTAMP:20260423T102502
CREATED:20221227T184524Z
LAST-MODIFIED:20260210T172253Z
UID:10000828-1823535000-1823538600@www.jaxlegalaid.org
SUMMARY:Child Support Modification: Custody\, Timesharing & Paternity
DESCRIPTION:Learn more about child support modification\, custody/timesharing\, and paternity. Receive forms and general instructions. \n2nd Thursday of Every Month\n• 5:30 – 6:30 PM\nNo appointment needed \nVIRTUAL CLINIC \n\nCopy passcode: 666506\nClick on Zoom Link\nPaste passcode to enter the clinic\n\n\nZoom Meeting ID: 842 7373 0745\nPasscode: 666506
URL:https://www.jaxlegalaid.org/event/child-support-modification-custody-timesharing-paternity/2027-10-14/
LOCATION:Virtual
CATEGORIES:Child Support Modifications and Custody/Timesharing/Paternity Clinic,Family Law Clinics,Free Legal Clinic
END:VEVENT
BEGIN:VEVENT
DTSTART;TZID=America/New_York:20271111T173000
DTEND;TZID=America/New_York:20271111T183000
DTSTAMP:20260423T102502
CREATED:20221227T184524Z
LAST-MODIFIED:20260210T172253Z
UID:10000829-1825954200-1825957800@www.jaxlegalaid.org
SUMMARY:Child Support Modification: Custody\, Timesharing & Paternity
DESCRIPTION:Learn more about child support modification\, custody/timesharing\, and paternity. Receive forms and general instructions. \n2nd Thursday of Every Month\n• 5:30 – 6:30 PM\nNo appointment needed \nVIRTUAL CLINIC \n\nCopy passcode: 666506\nClick on Zoom Link\nPaste passcode to enter the clinic\n\n\nZoom Meeting ID: 842 7373 0745\nPasscode: 666506
URL:https://www.jaxlegalaid.org/event/child-support-modification-custody-timesharing-paternity/2027-11-11/
LOCATION:Virtual
CATEGORIES:Child Support Modifications and Custody/Timesharing/Paternity Clinic,Family Law Clinics,Free Legal Clinic
END:VEVENT
BEGIN:VEVENT
DTSTART;TZID=America/New_York:20271209T173000
DTEND;TZID=America/New_York:20271209T183000
DTSTAMP:20260423T102502
CREATED:20221227T184524Z
LAST-MODIFIED:20260210T172253Z
UID:10000830-1828373400-1828377000@www.jaxlegalaid.org
SUMMARY:Child Support Modification: Custody\, Timesharing & Paternity
DESCRIPTION:Learn more about child support modification\, custody/timesharing\, and paternity. Receive forms and general instructions. \n2nd Thursday of Every Month\n• 5:30 – 6:30 PM\nNo appointment needed \nVIRTUAL CLINIC \n\nCopy passcode: 666506\nClick on Zoom Link\nPaste passcode to enter the clinic\n\n\nZoom Meeting ID: 842 7373 0745\nPasscode: 666506
URL:https://www.jaxlegalaid.org/event/child-support-modification-custody-timesharing-paternity/2027-12-09/
LOCATION:Virtual
CATEGORIES:Child Support Modifications and Custody/Timesharing/Paternity Clinic,Family Law Clinics,Free Legal Clinic
END:VEVENT
END:VCALENDAR