BEGIN:VCALENDAR
VERSION:2.0
PRODID:-//Jacksonville Area Legal Aid, Inc. - ECPv6.15.20//NONSGML v1.0//EN
CALSCALE:GREGORIAN
METHOD:PUBLISH
X-ORIGINAL-URL:https://www.jaxlegalaid.org
X-WR-CALDESC:Events for Jacksonville Area Legal Aid, Inc.
REFRESH-INTERVAL;VALUE=DURATION:PT1H
X-Robots-Tag:noindex
X-PUBLISHED-TTL:PT1H
BEGIN:VTIMEZONE
TZID:America/New_York
BEGIN:DAYLIGHT
TZOFFSETFROM:-0500
TZOFFSETTO:-0400
TZNAME:EDT
DTSTART:20250309T070000
END:DAYLIGHT
BEGIN:STANDARD
TZOFFSETFROM:-0400
TZOFFSETTO:-0500
TZNAME:EST
DTSTART:20251102T060000
END:STANDARD
BEGIN:DAYLIGHT
TZOFFSETFROM:-0500
TZOFFSETTO:-0400
TZNAME:EDT
DTSTART:20260308T070000
END:DAYLIGHT
BEGIN:STANDARD
TZOFFSETFROM:-0400
TZOFFSETTO:-0500
TZNAME:EST
DTSTART:20261101T060000
END:STANDARD
BEGIN:DAYLIGHT
TZOFFSETFROM:-0500
TZOFFSETTO:-0400
TZNAME:EDT
DTSTART:20270314T070000
END:DAYLIGHT
BEGIN:STANDARD
TZOFFSETFROM:-0400
TZOFFSETTO:-0500
TZNAME:EST
DTSTART:20271107T060000
END:STANDARD
END:VTIMEZONE
BEGIN:VEVENT
DTSTART;TZID=America/New_York:20260423T163000
DTEND;TZID=America/New_York:20260423T173000
DTSTAMP:20260423T113929
CREATED:20240601T215733Z
LAST-MODIFIED:20260210T172617Z
UID:10000836-1776961800-1776965400@www.jaxlegalaid.org
SUMMARY:Dissolution of Marriage (Divorce) - without children
DESCRIPTION:Learn about Florida dissolution of marriage including issues involving children and property. Receive forms and general instructions. \n4th Thursday of Every Month\n**No clinic in November or December\n• 4:30 – 5:30 PM – without children\nNo appointment needed \nVIRTUAL CLINIC \n\nCopy passcode: 182715\nClick on Zoom Link\nPaste passcode to enter the clinic\n\n\nZoom Meeting ID: 873 3215 1246\nPasscode: 182715
URL:https://www.jaxlegalaid.org/event/dissolution-of-marriage-divorce-without-children-2/2026-04-23/
LOCATION:Virtual
CATEGORIES:Dissolution of Marriage (Divorce) - without children,Family Law Clinics,Free Legal Clinic,Zoom - Virtual - Clinics
END:VEVENT
BEGIN:VEVENT
DTSTART;TZID=America/New_York:20260423T180000
DTEND;TZID=America/New_York:20260423T190000
DTSTAMP:20260423T113929
CREATED:20230422T172029Z
LAST-MODIFIED:20260210T172906Z
UID:10000870-1776967200-1776970800@www.jaxlegalaid.org
SUMMARY:Dissolution of Marriage (Divorce) - with children
DESCRIPTION:Learn about Florida dissolution of marriage including issues involving children and property. Receive forms and general instructions. \n4th Thursday of Every Month\n**No clinic in November or December\n• 6:00 – 7:00 PM – with children\nNo appointment needed \nVIRTUAL CLINIC \n\nCopy passcode: 026258\nClick on Zoom Link\nPaste passcode to enter the clinic\n\n\nZoom Meeting ID: 868 8127 1826\nPasscode: 026258
URL:https://www.jaxlegalaid.org/event/dissolution-of-marriage-divorce-with-children/2026-04-23/
LOCATION:Virtual
CATEGORIES:Dissolution of Marriage (Divorce) - with children,Family Law Clinics,Free Legal Clinic,Zoom - Virtual - Clinics
END:VEVENT
BEGIN:VEVENT
DTSTART;TZID=America/New_York:20260429T130000
DTEND;TZID=America/New_York:20260429T150000
DTSTAMP:20260423T113929
CREATED:20260208T221240Z
LAST-MODIFIED:20260208T221548Z
UID:10000682-1777467600-1777474800@www.jaxlegalaid.org
SUMMARY:Eviction Defense Self-Help Project
DESCRIPTION:Have you been served with an eviction summons? Does your rental home need repairs? Get help preparing your answer or creating your letter. \nEvery Wednesday afternoon\n**No clinic on November 11th or 25th\n**No clinic on December 23rd or 30th.\nAppointment Required. \nTELEPHONIC CLINIC\nBY APPOINTMENT ONLY\nPlease call (904) 356-8371 to apply and make an appointment.
URL:https://www.jaxlegalaid.org/event/eviction-defense-self-help-project-2-2/2026-04-29/
LOCATION:Virtual or Phone
CATEGORIES:Eviction Defense Self-Help Project,Free Legal Clinic,Rental Housing Clinics,Zoom - Virtual - Clinics
END:VEVENT
BEGIN:VEVENT
DTSTART;TZID=America/New_York:20260430T110000
DTEND;TZID=America/New_York:20260430T130000
DTSTAMP:20260423T113929
CREATED:20260305T200817Z
LAST-MODIFIED:20260305T201202Z
UID:10000887-1777546800-1777554000@www.jaxlegalaid.org
SUMMARY:Ask-A-Lawyer Clinic | Financial Institution Clinic
DESCRIPTION:
URL:https://www.jaxlegalaid.org/event/ask-a-lawyer-clinic-financial-institution-clinic/
LOCATION:Jacksonville City Hall\, 117 W. Duval St\, Ground Floor\, Jacksonville\, FL\, 32202\, United States
CATEGORIES:Ask-A-Lawyer,Duval County,Free Legal Clinic
GEO:30.3300681;-81.6590458
X-APPLE-STRUCTURED-LOCATION;VALUE=URI;X-ADDRESS=Jacksonville City Hall 117 W. Duval St Ground Floor Jacksonville FL 32202 United States;X-APPLE-RADIUS=500;X-TITLE=117 W. Duval St\, Ground Floor:geo:-81.6590458,30.3300681
END:VEVENT
BEGIN:VEVENT
DTSTART;TZID=America/New_York:20260507T170000
DTEND;TZID=America/New_York:20260507T180000
DTSTAMP:20260423T113929
CREATED:20260208T205749Z
LAST-MODIFIED:20260225T151337Z
UID:10000603-1778173200-1778176800@www.jaxlegalaid.org
SUMMARY:Virtual Bankruptcy Group Information Clinic
DESCRIPTION:Learn if bankruptcy is right for you. \n1st Thursday of Every Month\n• 5:00 – 6:00 PM\nNo appointment needed \nVIRTUAL CLINIC \n\nCopy passcode: 437111\nClick on Zoom Link\nPaste passcode to enter the clinic\n\n\nZoom Meeting ID: 833 5056 6627\nPasscode: 437111
URL:https://www.jaxlegalaid.org/event/bankruptcy-2-2/2026-05-07/
LOCATION:Virtual
CATEGORIES:Bankruptcy Clinic,Consumer & Federal Court Clinics,Free Legal Clinic,Zoom - Virtual - Clinics
END:VEVENT
BEGIN:VEVENT
DTSTART;TZID=America/New_York:20260508T113000
DTEND;TZID=America/New_York:20260508T130000
DTSTAMP:20260423T113929
CREATED:20260208T222542Z
LAST-MODIFIED:20260225T150050Z
UID:10000531-1778239800-1778245200@www.jaxlegalaid.org
SUMMARY:Veterans Legal Collaborative (VLC) Ask-A-Lawyer
DESCRIPTION:Do you have a family law\, real estate\, housing\, landlord/tenant\, probate\, estate\, or contract issue? In need of legal guidance from an attorney? Come get your questions answered by a Florida Licensed attorney. \n2nd Friday of Every Month\n• 11:30 AM – 1:00 PM\nNo appointment needed \nIN-PERSON CLINIC\nNO APPOINTMENT NEEDED\nJacksonville Outpatient Clinic 1536 N. Jefferson Street Jacksonville\, FL ROOM 2L103 or 2L104 \nInterviews are on a first-come\, first-served basis. This is an advice-only clinic. Attorneys will not be accepting cases for representation.
URL:https://www.jaxlegalaid.org/event/veterans-legal-collaborative-vlc-informational-clinic-2-2/2026-05-08/
LOCATION:Jacksonville Outpatient Clinic\, 1536 N. Jefferson Street Room 2L103\, Jacksonville\, FL\, 32209\, United States
CATEGORIES:Free Legal Clinic,Veteran Clinics,Veterans Legal Collaborative (VLC) Informational Clinic
GEO:30.3439432;-81.6635792
X-APPLE-STRUCTURED-LOCATION;VALUE=URI;X-ADDRESS=Jacksonville Outpatient Clinic 1536 N. Jefferson Street Room 2L103 Jacksonville FL 32209 United States;X-APPLE-RADIUS=500;X-TITLE=1536 N. Jefferson Street Room 2L103:geo:-81.6635792,30.3439432
END:VEVENT
BEGIN:VEVENT
DTSTART;TZID=America/New_York:20260511T173000
DTEND;TZID=America/New_York:20260511T183000
DTSTAMP:20260423T113930
CREATED:20260208T213436Z
LAST-MODIFIED:20260208T220437Z
UID:10000647-1778520600-1778524200@www.jaxlegalaid.org
SUMMARY:Nassau Family Law Group Informational Clinic
DESCRIPTION:Do you need to: Request a change in child support\, establish or modify a timesharing plan\, or file for divorce? Learn more at this in-person\, free information clinic. \n\n2nd Monday of Every Month\n\n5:30 – 6:30 PM \nIN-PERSON CLINIC\nNO APPOINTMENT NEEDED\nRobert M. Foster Justice Center\n76347 Veterans Way\nYulee\, FL\nCOURTROOM “E” – 1st Floor
URL:https://www.jaxlegalaid.org/event/family-law-group-informational-clinic-2-2/2026-05-11/
LOCATION:Robert M. Foster Justice Center\, 76347 Veterans Way\, Yulee\, FL\, 32097\, United States
CATEGORIES:Family Law Group Informational Clinic,Free Legal Clinic,Nassau County Clinics
GEO:29.8572292;-81.26471
X-APPLE-STRUCTURED-LOCATION;VALUE=URI;X-ADDRESS=Robert M. Foster Justice Center 76347 Veterans Way Yulee FL 32097 United States;X-APPLE-RADIUS=500;X-TITLE=76347 Veterans Way:geo:-81.26471,29.8572292
END:VEVENT
BEGIN:VEVENT
DTSTART;TZID=America/New_York:20260514T173000
DTEND;TZID=America/New_York:20260514T183000
DTSTAMP:20260423T113930
CREATED:20221227T184524Z
LAST-MODIFIED:20260210T172253Z
UID:10000811-1778779800-1778783400@www.jaxlegalaid.org
SUMMARY:Child Support Modification: Custody\, Timesharing & Paternity
DESCRIPTION:Learn more about child support modification\, custody/timesharing\, and paternity. Receive forms and general instructions. \n2nd Thursday of Every Month\n• 5:30 – 6:30 PM\nNo appointment needed \nVIRTUAL CLINIC \n\nCopy passcode: 666506\nClick on Zoom Link\nPaste passcode to enter the clinic\n\n\nZoom Meeting ID: 842 7373 0745\nPasscode: 666506
URL:https://www.jaxlegalaid.org/event/child-support-modification-custody-timesharing-paternity/2026-05-14/
LOCATION:Virtual
CATEGORIES:Child Support Modifications and Custody/Timesharing/Paternity Clinic,Family Law Clinics,Free Legal Clinic
END:VEVENT
BEGIN:VEVENT
DTSTART;TZID=America/New_York:20260527T113000
DTEND;TZID=America/New_York:20260527T123000
DTSTAMP:20260423T113930
CREATED:20260208T212515Z
LAST-MODIFIED:20260208T212516Z
UID:10000627-1779881400-1779885000@www.jaxlegalaid.org
SUMMARY:Pro Se Bankruptcy Assistance Clinic
DESCRIPTION:Free twenty-minute consultations for individuals representing themselves in bankruptcy court. \n4th Wednesday of Every Month\n**November clinic will be on the 18th.\n**December clinic will be on the 16th.\n• 11:30 AM – 12:30 PM\nNo appointment needed \nIN-PERSON CLINIC\nBryan Simpson U.S. Courthouse\n300 N. Hogan Street\, 4th Floor\nJacksonville\, FL
URL:https://www.jaxlegalaid.org/event/pro-se-bankruptcy-assistance-2/2026-05-27/
LOCATION:Bryan Simpson U.S. Courthouse- Rooms 4303 & 4403\, 300 N. Hogan Street\, Jacksonville\, FL\, 32202\, United States
CATEGORIES:Consumer & Federal Court Clinics,Duval County,Free Legal Clinic,Pro Se Bankruptcy Clinic
GEO:30.3295965;-81.660635
X-APPLE-STRUCTURED-LOCATION;VALUE=URI;X-ADDRESS=Bryan Simpson U.S. Courthouse- Rooms 4303 & 4403 300 N. Hogan Street Jacksonville FL 32202 United States;X-APPLE-RADIUS=500;X-TITLE=300 N. Hogan Street:geo:-81.660635,30.3295965
END:VEVENT
END:VCALENDAR