BEGIN:VCALENDAR
VERSION:2.0
PRODID:-//Jacksonville Area Legal Aid, Inc. - ECPv6.15.20//NONSGML v1.0//EN
CALSCALE:GREGORIAN
METHOD:PUBLISH
X-WR-CALNAME:Jacksonville Area Legal Aid, Inc.
X-ORIGINAL-URL:https://www.jaxlegalaid.org
X-WR-CALDESC:Events for Jacksonville Area Legal Aid, Inc.
REFRESH-INTERVAL;VALUE=DURATION:PT1H
X-Robots-Tag:noindex
X-PUBLISHED-TTL:PT1H
BEGIN:VTIMEZONE
TZID:America/New_York
BEGIN:DAYLIGHT
TZOFFSETFROM:-0500
TZOFFSETTO:-0400
TZNAME:EDT
DTSTART:20230312T070000
END:DAYLIGHT
BEGIN:STANDARD
TZOFFSETFROM:-0400
TZOFFSETTO:-0500
TZNAME:EST
DTSTART:20231105T060000
END:STANDARD
BEGIN:DAYLIGHT
TZOFFSETFROM:-0500
TZOFFSETTO:-0400
TZNAME:EDT
DTSTART:20240310T070000
END:DAYLIGHT
BEGIN:STANDARD
TZOFFSETFROM:-0400
TZOFFSETTO:-0500
TZNAME:EST
DTSTART:20241103T060000
END:STANDARD
BEGIN:DAYLIGHT
TZOFFSETFROM:-0500
TZOFFSETTO:-0400
TZNAME:EDT
DTSTART:20250309T070000
END:DAYLIGHT
BEGIN:STANDARD
TZOFFSETFROM:-0400
TZOFFSETTO:-0500
TZNAME:EST
DTSTART:20251102T060000
END:STANDARD
BEGIN:DAYLIGHT
TZOFFSETFROM:-0500
TZOFFSETTO:-0400
TZNAME:EDT
DTSTART:20260308T070000
END:DAYLIGHT
BEGIN:STANDARD
TZOFFSETFROM:-0400
TZOFFSETTO:-0500
TZNAME:EST
DTSTART:20261101T060000
END:STANDARD
END:VTIMEZONE
BEGIN:VEVENT
DTSTART;TZID=America/New_York:20251021T090000
DTEND;TZID=America/New_York:20251021T120000
DTSTAMP:20260423T143343
CREATED:20251002T143739Z
LAST-MODIFIED:20251002T145608Z
UID:10000546-1761037200-1761048000@www.jaxlegalaid.org
SUMMARY:Ask-A-Lawyer Clinic | Westside Family Resource Center
DESCRIPTION:REGISTER HERE
URL:https://www.jaxlegalaid.org/event/ask-a-lawyer-clinic-westside-family-resource-center/
LOCATION:Westside Family Resource Center\, 7050 Melvin Rd\, Jacksonville\, 32210\, United States
END:VEVENT
BEGIN:VEVENT
DTSTART;TZID=America/New_York:20250608T100000
DTEND;TZID=America/New_York:20250709T130000
DTSTAMP:20260423T143343
CREATED:20250508T134520Z
LAST-MODIFIED:20250508T135508Z
UID:10000545-1749376800-1752066000@www.jaxlegalaid.org
SUMMARY:SEALING & EXPUNGEMENT FAIR
DESCRIPTION:
URL:https://www.jaxlegalaid.org/event/sealing-expungement-fair/
LOCATION:Duval County of Clerks\, 501 W Adams St\, Jacksonsville\, FL\, 32203
END:VEVENT
BEGIN:VEVENT
DTSTART;TZID=America/New_York:20250430T130000
DTEND;TZID=America/New_York:20250430T140000
DTSTAMP:20260423T143343
CREATED:20250415T183938Z
LAST-MODIFIED:20250417T132529Z
UID:10000544-1746018000-1746021600@www.jaxlegalaid.org
SUMMARY:Fair Housing\, Fair Pricing Symposium
DESCRIPTION:REGISTER HERE
URL:https://www.jaxlegalaid.org/event/fair-housing-fair-pricing/
LOCATION:Virtual
CATEGORIES:Duval County,Free Legal Clinic,Zoom - Virtual - Clinics
END:VEVENT
BEGIN:VEVENT
DTSTART;TZID=America/New_York:20250425T130000
DTEND;TZID=America/New_York:20250425T160000
DTSTAMP:20260423T143343
CREATED:20250415T180652Z
LAST-MODIFIED:20250415T184931Z
UID:10000543-1745586000-1745596800@www.jaxlegalaid.org
SUMMARY:Fair Housing 2025: The Work Continues
DESCRIPTION:REGISTER HERE
URL:https://www.jaxlegalaid.org/event/fair-housing-2025-the-work-continues/
LOCATION:
CATEGORIES:Duval County,Free Legal Clinic,Zoom - Virtual - Clinics
END:VEVENT
BEGIN:VEVENT
DTSTART;TZID=America/New_York:20250329T090000
DTEND;TZID=America/New_York:20250329T150000
DTSTAMP:20260423T143343
CREATED:20250122T185150Z
LAST-MODIFIED:20250311T215757Z
UID:10000505-1743238800-1743260400@www.jaxlegalaid.org
SUMMARY:Citizenship Clinic
DESCRIPTION:CANCELLED\nFREE CITIZENSHIP CLINIC\nCLINICA DE CIUDADANIA – más información\n\nSATURDAY\, MARCH 29\, 2025\nTime: 9:00 AM – 3:00 PM\nUniversity of North Florida\n\nRegistration Mandatory – Apply Here\n\nFor Information email: CitizenshipClinic@jaxlegalaid.org\nor call:  (904) 903-4493\n\nPRESENTED BY:\n\n\n\n\n\n\nWho is eligible to Apply?\n\nAre 18 years or older\nLawful permanent resident for at least 5 years or 3 years if you are married to a U.S Citizen\nSpeak\, read and write Basic English or qualify for an exemption\nDO NOT have criminal convictions.\n\nWhat should I bring to the clinic:\n\nPermanent Resident Card\nState Identification\, passports\, Social Security card.\nAny police records\nHome\, School\, & work Address for the last 5 years\nInformation on all trips outside of the U.S in the last 5 years.\nInformation for ALL children under 18 years of age.\nCheck or money order for the government fees or qualify for a fee waive\nMost current IRS 1040 form or Public benefits letter with eligibility date
URL:https://www.jaxlegalaid.org/event/citizenship-clinic/
LOCATION:University of North Florida (UNF)\, 1 UNF Drive\, Jacksonville\, FL\, 32224\, United States
CATEGORIES:Free Legal Clinic
END:VEVENT
BEGIN:VEVENT
DTSTART;TZID=America/New_York:20241231T110000
DTEND;TZID=America/New_York:20241231T123000
DTSTAMP:20260423T143343
CREATED:20240911T182521Z
LAST-MODIFIED:20240911T182521Z
UID:10000232-1735642800-1735648200@www.jaxlegalaid.org
SUMMARY:Federal Legal Assistance Program
DESCRIPTION:If you’re filing your own civil matter in federal court\, this clinic is an opportunity to speak individually with an attorney about procedure and documents. \nEvery Tuesday\n• 11:00 AM – 12:30 PM **No clinic on December 19th or 26th.\nAppointment Required \nTELEPHONIC/VIRTUAL CLINIC\nBY APPOINTMENT ONLY\nPlease call (904) 356-8371 ext. 357 to apply and make an appointment.
URL:https://www.jaxlegalaid.org/event/federal-legal-assistance-program-2/2024-12-31/
LOCATION:Virtual or Phone
CATEGORIES:Consumer & Federal Court Clinics,Federal Legal Assistance
END:VEVENT
BEGIN:VEVENT
DTSTART;TZID=America/New_York:20241112T173000
DTEND;TZID=America/New_York:20241112T190000
DTSTAMP:20260423T143343
CREATED:20230422T222102Z
LAST-MODIFIED:20231207T185832Z
UID:10000455-1731432600-1731438000@www.jaxlegalaid.org
SUMMARY:Clay Library Ask-A-Lawyer
DESCRIPTION:Do you have a family law\, housing\, landlord/tenant\, probate\, estate\, or contract issue? In need of legal guidance from an attorney? Come get your questions answered by a Florida\nLicensed attorney. \n\nJanuary 9th\nMarch 12th\nMay 14th\nJuly 9th\nSeptember 10th\nNovember 12th\n\n5:30 – 7:00 PM\nIN-PERSON CLINIC\nNO APPOINTMENT NEEDED \nOrange Park Library\n2054 Plainfield Ave.\nOrange Park\, FL
URL:https://www.jaxlegalaid.org/event/clay-library-ask-a-lawyer/2024-11-12/
LOCATION:Orange Park Library\, 2054 Plainfield Ave.\, Orange Park\, FL\, 32073\, United States
CATEGORIES:Ask-A-Lawyer (Clay Library),Clay County Clinics,Free Legal Clinic
GEO:30.1645369;-81.7071508
X-APPLE-STRUCTURED-LOCATION;VALUE=URI;X-ADDRESS=Orange Park Library 2054 Plainfield Ave. Orange Park FL 32073 United States;X-APPLE-RADIUS=500;X-TITLE=2054 Plainfield Ave.:geo:-81.7071508,30.1645369
END:VEVENT
END:VCALENDAR