BEGIN:VCALENDAR
VERSION:2.0
PRODID:-//Jacksonville Area Legal Aid, Inc. - ECPv6.15.20//NONSGML v1.0//EN
CALSCALE:GREGORIAN
METHOD:PUBLISH
X-ORIGINAL-URL:https://www.jaxlegalaid.org
X-WR-CALDESC:Events for Jacksonville Area Legal Aid, Inc.
REFRESH-INTERVAL;VALUE=DURATION:PT1H
X-Robots-Tag:noindex
X-PUBLISHED-TTL:PT1H
BEGIN:VTIMEZONE
TZID:America/New_York
BEGIN:DAYLIGHT
TZOFFSETFROM:-0500
TZOFFSETTO:-0400
TZNAME:EDT
DTSTART:20250309T070000
END:DAYLIGHT
BEGIN:STANDARD
TZOFFSETFROM:-0400
TZOFFSETTO:-0500
TZNAME:EST
DTSTART:20251102T060000
END:STANDARD
BEGIN:DAYLIGHT
TZOFFSETFROM:-0500
TZOFFSETTO:-0400
TZNAME:EDT
DTSTART:20260308T070000
END:DAYLIGHT
BEGIN:STANDARD
TZOFFSETFROM:-0400
TZOFFSETTO:-0500
TZNAME:EST
DTSTART:20261101T060000
END:STANDARD
BEGIN:DAYLIGHT
TZOFFSETFROM:-0500
TZOFFSETTO:-0400
TZNAME:EDT
DTSTART:20270314T070000
END:DAYLIGHT
BEGIN:STANDARD
TZOFFSETFROM:-0400
TZOFFSETTO:-0500
TZNAME:EST
DTSTART:20271107T060000
END:STANDARD
END:VTIMEZONE
BEGIN:VEVENT
DTSTART;TZID=America/New_York:20260313T113000
DTEND;TZID=America/New_York:20260313T130000
DTSTAMP:20260423T201720
CREATED:20260208T222542Z
LAST-MODIFIED:20260225T150050Z
UID:10000529-1773401400-1773406800@www.jaxlegalaid.org
SUMMARY:Veterans Legal Collaborative (VLC) Ask-A-Lawyer
DESCRIPTION:Do you have a family law\, real estate\, housing\, landlord/tenant\, probate\, estate\, or contract issue? In need of legal guidance from an attorney? Come get your questions answered by a Florida Licensed attorney. \n2nd Friday of Every Month\n• 11:30 AM – 1:00 PM\nNo appointment needed \nIN-PERSON CLINIC\nNO APPOINTMENT NEEDED\nJacksonville Outpatient Clinic 1536 N. Jefferson Street Jacksonville\, FL ROOM 2L103 or 2L104 \nInterviews are on a first-come\, first-served basis. This is an advice-only clinic. Attorneys will not be accepting cases for representation.
URL:https://www.jaxlegalaid.org/event/veterans-legal-collaborative-vlc-informational-clinic-2-2/2026-03-13/
LOCATION:Jacksonville Outpatient Clinic\, 1536 N. Jefferson Street Room 2L103\, Jacksonville\, FL\, 32209\, United States
CATEGORIES:Free Legal Clinic,Veteran Clinics,Veterans Legal Collaborative (VLC) Informational Clinic
GEO:30.3439432;-81.6635792
X-APPLE-STRUCTURED-LOCATION;VALUE=URI;X-ADDRESS=Jacksonville Outpatient Clinic 1536 N. Jefferson Street Room 2L103 Jacksonville FL 32209 United States;X-APPLE-RADIUS=500;X-TITLE=1536 N. Jefferson Street Room 2L103:geo:-81.6635792,30.3439432
END:VEVENT
END:VCALENDAR