BEGIN:VCALENDAR
VERSION:2.0
PRODID:-//Jacksonville Area Legal Aid, Inc. - ECPv6.15.20//NONSGML v1.0//EN
CALSCALE:GREGORIAN
METHOD:PUBLISH
X-WR-CALNAME:Jacksonville Area Legal Aid, Inc.
X-ORIGINAL-URL:https://www.jaxlegalaid.org
X-WR-CALDESC:Events for Jacksonville Area Legal Aid, Inc.
REFRESH-INTERVAL;VALUE=DURATION:PT1H
X-Robots-Tag:noindex
X-PUBLISHED-TTL:PT1H
BEGIN:VTIMEZONE
TZID:America/New_York
BEGIN:DAYLIGHT
TZOFFSETFROM:-0500
TZOFFSETTO:-0400
TZNAME:EDT
DTSTART:20250309T070000
END:DAYLIGHT
BEGIN:STANDARD
TZOFFSETFROM:-0400
TZOFFSETTO:-0500
TZNAME:EST
DTSTART:20251102T060000
END:STANDARD
BEGIN:DAYLIGHT
TZOFFSETFROM:-0500
TZOFFSETTO:-0400
TZNAME:EDT
DTSTART:20260308T070000
END:DAYLIGHT
BEGIN:STANDARD
TZOFFSETFROM:-0400
TZOFFSETTO:-0500
TZNAME:EST
DTSTART:20261101T060000
END:STANDARD
BEGIN:DAYLIGHT
TZOFFSETFROM:-0500
TZOFFSETTO:-0400
TZNAME:EDT
DTSTART:20270314T070000
END:DAYLIGHT
BEGIN:STANDARD
TZOFFSETFROM:-0400
TZOFFSETTO:-0500
TZNAME:EST
DTSTART:20271107T060000
END:STANDARD
END:VTIMEZONE
BEGIN:VEVENT
DTSTART;TZID=America/New_York:20260204T130000
DTEND;TZID=America/New_York:20260204T150000
DTSTAMP:20260423T191603
CREATED:20260208T221240Z
LAST-MODIFIED:20260208T221548Z
UID:10000670-1770210000-1770217200@www.jaxlegalaid.org
SUMMARY:Eviction Defense Self-Help Project
DESCRIPTION:Have you been served with an eviction summons? Does your rental home need repairs? Get help preparing your answer or creating your letter. \nEvery Wednesday afternoon\n**No clinic on November 11th or 25th\n**No clinic on December 23rd or 30th.\nAppointment Required. \nTELEPHONIC CLINIC\nBY APPOINTMENT ONLY\nPlease call (904) 356-8371 to apply and make an appointment.
URL:https://www.jaxlegalaid.org/event/eviction-defense-self-help-project-2-2/2026-02-04/
LOCATION:Virtual or Phone
CATEGORIES:Eviction Defense Self-Help Project,Free Legal Clinic,Rental Housing Clinics,Zoom - Virtual - Clinics
END:VEVENT
BEGIN:VEVENT
DTSTART;TZID=America/New_York:20260205T170000
DTEND;TZID=America/New_York:20260205T180000
DTSTAMP:20260423T191603
CREATED:20260208T205749Z
LAST-MODIFIED:20260225T151337Z
UID:10000600-1770310800-1770314400@www.jaxlegalaid.org
SUMMARY:Virtual Bankruptcy Group Information Clinic
DESCRIPTION:Learn if bankruptcy is right for you. \n1st Thursday of Every Month\n• 5:00 – 6:00 PM\nNo appointment needed \nVIRTUAL CLINIC \n\nCopy passcode: 437111\nClick on Zoom Link\nPaste passcode to enter the clinic\n\n\nZoom Meeting ID: 833 5056 6627\nPasscode: 437111
URL:https://www.jaxlegalaid.org/event/bankruptcy-2-2/2026-02-05/
LOCATION:Virtual
CATEGORIES:Bankruptcy Clinic,Consumer & Federal Court Clinics,Free Legal Clinic,Zoom - Virtual - Clinics
END:VEVENT
END:VCALENDAR