BEGIN:VCALENDAR
VERSION:2.0
PRODID:-//Jacksonville Area Legal Aid, Inc. - ECPv6.15.20//NONSGML v1.0//EN
CALSCALE:GREGORIAN
METHOD:PUBLISH
X-WR-CALNAME:Jacksonville Area Legal Aid, Inc.
X-ORIGINAL-URL:https://www.jaxlegalaid.org
X-WR-CALDESC:Events for Jacksonville Area Legal Aid, Inc.
REFRESH-INTERVAL;VALUE=DURATION:PT1H
X-Robots-Tag:noindex
X-PUBLISHED-TTL:PT1H
BEGIN:VTIMEZONE
TZID:America/New_York
BEGIN:DAYLIGHT
TZOFFSETFROM:-0500
TZOFFSETTO:-0400
TZNAME:EDT
DTSTART:20250309T070000
END:DAYLIGHT
BEGIN:STANDARD
TZOFFSETFROM:-0400
TZOFFSETTO:-0500
TZNAME:EST
DTSTART:20251102T060000
END:STANDARD
BEGIN:DAYLIGHT
TZOFFSETFROM:-0500
TZOFFSETTO:-0400
TZNAME:EDT
DTSTART:20260308T070000
END:DAYLIGHT
BEGIN:STANDARD
TZOFFSETFROM:-0400
TZOFFSETTO:-0500
TZNAME:EST
DTSTART:20261101T060000
END:STANDARD
BEGIN:DAYLIGHT
TZOFFSETFROM:-0500
TZOFFSETTO:-0400
TZNAME:EDT
DTSTART:20270314T070000
END:DAYLIGHT
BEGIN:STANDARD
TZOFFSETFROM:-0400
TZOFFSETTO:-0500
TZNAME:EST
DTSTART:20271107T060000
END:STANDARD
END:VTIMEZONE
BEGIN:VEVENT
DTSTART;TZID=America/New_York:20260409T173000
DTEND;TZID=America/New_York:20260409T183000
DTSTAMP:20260423T191345
CREATED:20221227T184524Z
LAST-MODIFIED:20260210T172253Z
UID:10000810-1775755800-1775759400@www.jaxlegalaid.org
SUMMARY:Child Support Modification: Custody\, Timesharing & Paternity
DESCRIPTION:Learn more about child support modification\, custody/timesharing\, and paternity. Receive forms and general instructions. \n2nd Thursday of Every Month\n• 5:30 – 6:30 PM\nNo appointment needed \nVIRTUAL CLINIC \n\nCopy passcode: 666506\nClick on Zoom Link\nPaste passcode to enter the clinic\n\n\nZoom Meeting ID: 842 7373 0745\nPasscode: 666506
URL:https://www.jaxlegalaid.org/event/child-support-modification-custody-timesharing-paternity/2026-04-09/
LOCATION:Virtual
CATEGORIES:Child Support Modifications and Custody/Timesharing/Paternity Clinic,Family Law Clinics,Free Legal Clinic
END:VEVENT
END:VCALENDAR