BEGIN:VCALENDAR
VERSION:2.0
PRODID:-//Jacksonville Area Legal Aid, Inc. - ECPv6.15.20//NONSGML v1.0//EN
CALSCALE:GREGORIAN
METHOD:PUBLISH
X-ORIGINAL-URL:https://www.jaxlegalaid.org
X-WR-CALDESC:Events for Jacksonville Area Legal Aid, Inc.
REFRESH-INTERVAL;VALUE=DURATION:PT1H
X-Robots-Tag:noindex
X-PUBLISHED-TTL:PT1H
BEGIN:VTIMEZONE
TZID:America/New_York
BEGIN:DAYLIGHT
TZOFFSETFROM:-0500
TZOFFSETTO:-0400
TZNAME:EDT
DTSTART:20250309T070000
END:DAYLIGHT
BEGIN:STANDARD
TZOFFSETFROM:-0400
TZOFFSETTO:-0500
TZNAME:EST
DTSTART:20251102T060000
END:STANDARD
BEGIN:DAYLIGHT
TZOFFSETFROM:-0500
TZOFFSETTO:-0400
TZNAME:EDT
DTSTART:20260308T070000
END:DAYLIGHT
BEGIN:STANDARD
TZOFFSETFROM:-0400
TZOFFSETTO:-0500
TZNAME:EST
DTSTART:20261101T060000
END:STANDARD
BEGIN:DAYLIGHT
TZOFFSETFROM:-0500
TZOFFSETTO:-0400
TZNAME:EDT
DTSTART:20270314T070000
END:DAYLIGHT
BEGIN:STANDARD
TZOFFSETFROM:-0400
TZOFFSETTO:-0500
TZNAME:EST
DTSTART:20271107T060000
END:STANDARD
END:VTIMEZONE
BEGIN:VEVENT
DTSTART;TZID=America/New_York:20260218T173000
DTEND;TZID=America/New_York:20260218T190000
DTSTAMP:20260423T201026
CREATED:20250314T104630Z
LAST-MODIFIED:20260206T211202Z
UID:10000548-1771435800-1771441200@www.jaxlegalaid.org
SUMMARY:Orange Park Library Ask-A-Lawyer
DESCRIPTION:Do you have a family law\, housing\, landlord/tenant\, probate\, estate\, or contract issue? In need of legal guidance from an attorney? Come get your questions answered by a Florida\nLicensed attorney. \n\nFebruary 18\, 2026\n\n5:30 – 7:00 PM\nIN-PERSON CLINIC\nNO APPOINTMENT NEEDED \nOrange Park Library\n2054 Plainfield Ave.\nOrange Park\, FL
URL:https://www.jaxlegalaid.org/event/208956/2026-02-18/
LOCATION:Orange Park Library\, 2054 Plainfield Ave.\, Orange Park\, FL\, 32073\, United States
CATEGORIES:Ask-A-Lawyer,Free Legal Clinic
GEO:30.1645369;-81.7071508
X-APPLE-STRUCTURED-LOCATION;VALUE=URI;X-ADDRESS=Orange Park Library 2054 Plainfield Ave. Orange Park FL 32073 United States;X-APPLE-RADIUS=500;X-TITLE=2054 Plainfield Ave.:geo:-81.7071508,30.1645369
END:VEVENT
BEGIN:VEVENT
DTSTART;TZID=America/New_York:20260220T110000
DTEND;TZID=America/New_York:20260220T130000
DTSTAMP:20260423T201026
CREATED:20260109T215211Z
LAST-MODIFIED:20260109T215211Z
UID:10000547-1771585200-1771592400@www.jaxlegalaid.org
SUMMARY:Baker County Ask-A-Lawyer
DESCRIPTION:Do you have a family law\, housing\, landlord/tenant\, probate\, estate\, or contract issue? In need of legal guidance from an attorney? Come get your questions answered by a Florida Licensed attorney. \n\nFebruary 20\, 2026\n\n11:00 AM – 1:00 PM\nIN-PERSON CLINIC\nNO APPOINTMENT NEEDED \nBaker County Clerks Office/Courthouse\n339 E Macclenny Ave\nMacclenny\, FL 32063
URL:https://www.jaxlegalaid.org/event/baker-county-ask-a-lawyer/
LOCATION:FL
CATEGORIES:Ask-A-Lawyer,Free Legal Clinic
END:VEVENT
BEGIN:VEVENT
DTSTART;TZID=America/New_York:20260430T110000
DTEND;TZID=America/New_York:20260430T130000
DTSTAMP:20260423T201026
CREATED:20260305T200817Z
LAST-MODIFIED:20260305T201202Z
UID:10000887-1777546800-1777554000@www.jaxlegalaid.org
SUMMARY:Ask-A-Lawyer Clinic | Financial Institution Clinic
DESCRIPTION:
URL:https://www.jaxlegalaid.org/event/ask-a-lawyer-clinic-financial-institution-clinic/
LOCATION:Jacksonville City Hall\, 117 W. Duval St\, Ground Floor\, Jacksonville\, FL\, 32202\, United States
CATEGORIES:Ask-A-Lawyer,Duval County,Free Legal Clinic
GEO:30.3300681;-81.6590458
X-APPLE-STRUCTURED-LOCATION;VALUE=URI;X-ADDRESS=Jacksonville City Hall 117 W. Duval St Ground Floor Jacksonville FL 32202 United States;X-APPLE-RADIUS=500;X-TITLE=117 W. Duval St\, Ground Floor:geo:-81.6590458,30.3300681
END:VEVENT
END:VCALENDAR